BEGIN:VCALENDAR
VERSION:2.0
PRODID:-//GZW Events - ECPv6.15.20//NONSGML v1.0//EN
CALSCALE:GREGORIAN
METHOD:PUBLISH
X-ORIGINAL-URL:https://gzwevents.com
X-WR-CALDESC:Events for GZW Events
REFRESH-INTERVAL;VALUE=DURATION:PT1H
X-Robots-Tag:noindex
X-PUBLISHED-TTL:PT1H
BEGIN:VTIMEZONE
TZID:Europe/London
BEGIN:DAYLIGHT
TZOFFSETFROM:+0000
TZOFFSETTO:+0100
TZNAME:BST
DTSTART:20250330T010000
END:DAYLIGHT
BEGIN:STANDARD
TZOFFSETFROM:+0100
TZOFFSETTO:+0000
TZNAME:GMT
DTSTART:20251026T010000
END:STANDARD
BEGIN:DAYLIGHT
TZOFFSETFROM:+0000
TZOFFSETTO:+0100
TZNAME:BST
DTSTART:20260329T010000
END:DAYLIGHT
BEGIN:STANDARD
TZOFFSETFROM:+0100
TZOFFSETTO:+0000
TZNAME:GMT
DTSTART:20261025T010000
END:STANDARD
BEGIN:DAYLIGHT
TZOFFSETFROM:+0000
TZOFFSETTO:+0100
TZNAME:BST
DTSTART:20270328T010000
END:DAYLIGHT
BEGIN:STANDARD
TZOFFSETFROM:+0100
TZOFFSETTO:+0000
TZNAME:GMT
DTSTART:20271031T010000
END:STANDARD
END:VTIMEZONE
BEGIN:VEVENT
DTSTART;TZID=Europe/London:20260425T170000
DTEND;TZID=Europe/London:20260426T020000
DTSTAMP:20260422T233153
CREATED:20260421T134415Z
LAST-MODIFIED:20260421T144854Z
UID:702-1777136400-1777168800@gzwevents.com
SUMMARY:Break the Bank – Joint Ops
DESCRIPTION:Pre-brief\n\n\n\nThis is your pre-brief for Break the Bank\, where we will outline how tonight’s event works\, the rules and what’s up for grabs. \n\n\n\nThe Mission\n\n\n\nNow that the three factions have been deadlocked for months\, they’re seeking to gain a financial advantage over their rivals. With the discovery of high-tier loot on the island\, contractors are instructed to go out and gather as much as possible. Those who can gain the most loot and sell it for the highest price will be rewarded for adding to the faction’s coffers. \n\n\n\nPhase 1Start time: Sunday 26 April\, 5pm UK timeDuration: 4 hoursServer code: posted on Discord when we go liveDiscord event link \n\n\n\nPhase 2Start time: Sunday 26 April\, 5pm EST timeDuration: 4 hoursServer code: posted on Discord when we go liveDiscord event link \n\n\n\nStructure\n\n\n\nThe longer we’re here\, the more costly it is to remain. You’re tasked with generating as many funds as possible to help fund our future endeavours in Lamang. We need you to gather high value loot items\, such as watches\, cameras\, jewelry\, etc. \n\n\n\nYou will have 3 hours to gather as much of these high-value items as you can. At the end\, you must sell these to a vendor and provide proof of sale\, whoever manages to sell the most value will win. \n\n\n\nRules\n\n\n\nPlease take note of the below rules to maintain fairness throughout. \n\n\n\n\nSell only high-value loot items\n\n\n\nSell all items in one go at the end of the event\, screenshotting the list and total before confirming the transaction (THIS MEANS ONE SCREENSHOT PER PLAYER)\n\n\n\nYou can gather HVL items however you like\n\n\n\n\nHow to play\n\n\n\nSimply join the custom server using the code above and on Discord. Here’s a quick guide on how to join a custom server: \n\n\n\n\nGo to the main menu\n\n\n\nOpen your settings\n\n\n\nSelect ‘Custom servers’\n\n\n\nEnter the code and press join\n\n\n\n\nThe code will become available roughly 30 minutes before we go live. We’ll keep you updated on when new rounds start/end in the events news channel. \n\n\n\nOnce you’re in\, please follow the rules/structure and respect other players. \n\n\n\nPrizes\n\n\n\nWe’ll be running Tier 2 prizes for this event. There will be 3 winners in each phase\, based on who sells the most high value loot. \n\n\n\nIn order to be counted\, you must sell all of the items in one go to Handshake and screenshot the transaction before completing it (at the end of the event). \n\n\n\nSales including anything but HVL will be discounted. Please place any screenshots in the ⁠bank channel. \n\n\n\nThanksTGxAltair
URL:https://gzwevents.com/event/break-the-bank-joint-ops/
CATEGORIES:Official
ATTACH;FMTTYPE=image/webp:https://gzwevents.com/wp-content/uploads/2025/04/Winner-26-March-2025.webp
END:VEVENT
END:VCALENDAR